BEGIN:VCALENDAR
VERSION:2.0
PRODID:-//Tukios.com/
BEGIN:VEVENT
UID:31da4eeb-5c62-4ea9-b484-08376181d23c@www.gmartinezfuneral.com
DTSTAMP:20260421T085444Z
DTSTART:20260420T133000Z
DTEND:20260420T143000Z
SUMMARY:Funeral Service
DESCRIPTION:
URL:https://www.gmartinezfuneral.com/obituaries/jorge-morales
LOCATION: 5725 S Pulaski Rd  Chicago IL 60629
GEO:41.7888518;-87.7226148
END:VEVENT
END:VCALENDAR