BEGIN:VCALENDAR
VERSION:2.0
PRODID:-//Tukios.com/
BEGIN:VEVENT
UID:a81ec059-56af-484d-8a9f-966b337bdbcb@www.gmartinezfuneral.com
DTSTAMP:20260421T081507Z
DTSTART:20260419T190000Z
DTEND:20260420T000000Z
SUMMARY:Visitation
DESCRIPTION:
URL:https://www.gmartinezfuneral.com/obituaries/jorge-morales
LOCATION: 5725 S Pulaski Rd  Chicago IL 60629
GEO:41.7888518;-87.7226148
END:VEVENT
END:VCALENDAR